BEGIN:VCALENDAR
VERSION:2.0
PRODID:-//Côme Boutella - Tuba - ECPv6.15.20//NONSGML v1.0//EN
CALSCALE:GREGORIAN
METHOD:PUBLISH
X-WR-CALNAME:Côme Boutella - Tuba
X-ORIGINAL-URL:https://cometuba.com
X-WR-CALDESC:Events for Côme Boutella - Tuba
REFRESH-INTERVAL;VALUE=DURATION:PT1H
X-Robots-Tag:noindex
X-PUBLISHED-TTL:PT1H
BEGIN:VTIMEZONE
TZID:Europe/Zurich
BEGIN:DAYLIGHT
TZOFFSETFROM:+0100
TZOFFSETTO:+0200
TZNAME:CEST
DTSTART:20230326T010000
END:DAYLIGHT
BEGIN:STANDARD
TZOFFSETFROM:+0200
TZOFFSETTO:+0100
TZNAME:CET
DTSTART:20231029T010000
END:STANDARD
BEGIN:DAYLIGHT
TZOFFSETFROM:+0100
TZOFFSETTO:+0200
TZNAME:CEST
DTSTART:20240331T010000
END:DAYLIGHT
BEGIN:STANDARD
TZOFFSETFROM:+0200
TZOFFSETTO:+0100
TZNAME:CET
DTSTART:20241027T010000
END:STANDARD
BEGIN:DAYLIGHT
TZOFFSETFROM:+0100
TZOFFSETTO:+0200
TZNAME:CEST
DTSTART:20250330T010000
END:DAYLIGHT
BEGIN:STANDARD
TZOFFSETFROM:+0200
TZOFFSETTO:+0100
TZNAME:CET
DTSTART:20251026T010000
END:STANDARD
BEGIN:DAYLIGHT
TZOFFSETFROM:+0100
TZOFFSETTO:+0200
TZNAME:CEST
DTSTART:20260329T010000
END:DAYLIGHT
BEGIN:STANDARD
TZOFFSETFROM:+0200
TZOFFSETTO:+0100
TZNAME:CET
DTSTART:20261025T010000
END:STANDARD
END:VTIMEZONE
BEGIN:VTIMEZONE
TZID:Europe/Paris
BEGIN:DAYLIGHT
TZOFFSETFROM:+0100
TZOFFSETTO:+0200
TZNAME:CEST
DTSTART:20230326T010000
END:DAYLIGHT
BEGIN:STANDARD
TZOFFSETFROM:+0200
TZOFFSETTO:+0100
TZNAME:CET
DTSTART:20231029T010000
END:STANDARD
BEGIN:DAYLIGHT
TZOFFSETFROM:+0100
TZOFFSETTO:+0200
TZNAME:CEST
DTSTART:20240331T010000
END:DAYLIGHT
BEGIN:STANDARD
TZOFFSETFROM:+0200
TZOFFSETTO:+0100
TZNAME:CET
DTSTART:20241027T010000
END:STANDARD
BEGIN:DAYLIGHT
TZOFFSETFROM:+0100
TZOFFSETTO:+0200
TZNAME:CEST
DTSTART:20250330T010000
END:DAYLIGHT
BEGIN:STANDARD
TZOFFSETFROM:+0200
TZOFFSETTO:+0100
TZNAME:CET
DTSTART:20251026T010000
END:STANDARD
END:VTIMEZONE
BEGIN:VEVENT
DTSTART;TZID=Europe/Zurich:20251209T143000
DTEND;TZID=Europe/Zurich:20251209T160000
DTSTAMP:20260420T120440
CREATED:20251118T073551Z
LAST-MODIFIED:20251118T073551Z
UID:1560-1765290600-1765296000@cometuba.com
SUMMARY:Côme & Friends in recital
DESCRIPTION:Program : \n-Kjell Mørk Karlsen (1947*) : Tre Stykker for fiolin og tuba op. 12.2 (1990). \n-Claire Polin (1926-1995) : The Death of Procris\, 1972-73 (Studies after a painting by Piero di Cosimo) for Flute and Tuba. \n-Daniel Schnyder (1961*) : Parkour Musical for Clarinet in B♭ and Tuba. \n-J.E. Barat (1882-1963) : Introduction et Danse pour tuba et piano (arr. for tuba solo in brass quintet). \n-Paul Nagle (1941*) : Jive for five. \n-Thierry Caens (1958*) : ” Mister M.C. ” concerto pour tuba\, ensemble de cuivres et percussions – as dedicated to Mel Culbertson.
URL:https://cometuba.com/event/come-friends-in-recital/
LOCATION:Zürcher Hochschule der Künste\, Switzerland
END:VEVENT
BEGIN:VEVENT
DTSTART;TZID=Europe/Zurich:20251113T193000
DTEND;TZID=Europe/Zurich:20251113T203000
DTSTAMP:20260420T120440
CREATED:20251027T083033Z
LAST-MODIFIED:20251109T211158Z
UID:1551-1763062200-1763065800@cometuba.com
SUMMARY:"Mesor Chamber Series" debut - Tuba & Flute
DESCRIPTION:Program : \n-Alfred Schust (1915-1988) : Duo für Flöte und Tuba. \n-Claire Polin (1926-1995) : The Death of Procris\, 1972-73 (Studies after a painting by Piero di Cosimo) for Flute and Tuba. \n-David Gaines (*1961) : Duo for flute and tuba. \n-William Shiu (*2000) : “Troublesome Brothers” (swiss premiere) . \n-Ben Miles (*1974) : Fantasy for flute and tuba. \n-Walter S. Hartley (1927-2016) : Duet for Flute and Tuba. \nFlautist : Tak Him Ernest Wong ; Tubist : Côme Boutella
URL:https://cometuba.com/event/tuba-flute-chamber-music-concert/
LOCATION:Raume 236\, Förrlibuckstrasse 236\, Zürich\, Switzerland
END:VEVENT
BEGIN:VEVENT
DTSTART;TZID=Europe/Zurich:20250724T190000
DTEND;TZID=Europe/Zurich:20250724T210000
DTSTAMP:20260420T120440
CREATED:20250611T091359Z
LAST-MODIFIED:20250611T091457Z
UID:1536-1753383600-1753390800@cometuba.com
SUMMARY:Hommage à J.-F. Zbinden\, chamber music of the 20th century for organ and brass\, conducted by Richard Dubugnon
DESCRIPTION:Concert with the Symphonic Brass Quintet \n-Solo piece : Julien-François Zbinden (1917-2021) : Solissimo V for tuba solo (2009) \n-Chamber music pieces : see the program 
URL:https://cometuba.com/event/hommage-a-j-f-zbinden-chamber-music-of-the-20th-century-for-organ-and-brass-conducted-by-richard-dubugnon/
LOCATION:Cathédrale de Lausanne\, Lausanne\, Switzerland
END:VEVENT
BEGIN:VEVENT
DTSTART;TZID=Europe/Zurich:20250521T110000
DTEND;TZID=Europe/Zurich:20250521T120000
DTSTAMP:20260420T120440
CREATED:20250518T063851Z
LAST-MODIFIED:20250518T063851Z
UID:1529-1747825200-1747828800@cometuba.com
SUMMARY:Vordiplom
DESCRIPTION:Program : \n-Valerii Strukov (1937-2005): Concerto for Tuba and Orchestra \n-Antoine Tisné (1932-1998): Monodie III pour un espace sacré (solo) \n-Marcel Quérat : Interposition pour Tuba Basse et Piano \n-Betsy Jolas (1926*): Trois duos pour Tuba et piano
URL:https://cometuba.com/event/vordiplom/
LOCATION:Zürcher Hochschule der Künste\, Switzerland
END:VEVENT
BEGIN:VEVENT
DTSTART;TZID=Europe/Zurich:20241006T160000
DTEND;TZID=Europe/Zurich:20241006T173000
DTSTAMP:20260420T120440
CREATED:20240908T192100Z
LAST-MODIFIED:20240908T192355Z
UID:1442-1728230400-1728235800@cometuba.com
SUMMARY:Solo Recital at Eglise Notre-Dame d’Hirson with Christine Métay-Segui (organ)
DESCRIPTION:Program : \n\nGeorg Philipp Telemann (Magdebourg 1681 – Hambourg 1767)\nSonate en la mineur pour hautbois et basse continue / Révision de Louis Bleuzet\n\n\nFranz Schubert (Lichtental 1797 – Vienne 1828)\nStändchen (Sérénade)\, D 957\n\n\nJohann Sebastian Bach (Eisenach 1685 – Leipzig 1750)\n– Prélude et fugue en la mineur pour orgue\, BWV 543\n– Première Suite pour violoncelle seul en sol Majeur\, BWV 1007 (extraits)\n« Prélude »\, « Allemande »\, « Sarabande »\, « Menuets I & II »\, – « Gigue »\n\n\nEric Lebrun (Talence 1967)\nÎles pour tuba et orgue\nCréation\, commande d’Orgue & Musique à Vouvant\n\n\nGabriel Pierné (Metz 1863 – Ploujean 1937)\nPrélude pour orgue\, op. 29\, n° 1\n\n\nIsaac Albéniz (Camprondon 1860 – Cambo-les-Bains 1909)\nCapricho Catalan de España\nArrangement de Walter Hilgers\n\n\nSergueï Rachmaninov (Semionovo 1873 – Beverly-Hills 1943)\nVocalise\, op. 34\n\n\nGabriel Fauré (Pamiers 1845 – Paris 1924)\nAprès un rêve\, op. 7
URL:https://cometuba.com/event/solo-recital-at-eglise-notre-dame-dhirson-with-christine-metay-segui-organ/
LOCATION:Hirson\, Eglise Notre-Dame d’Hirson\, Hirson\, 02500\, France
END:VEVENT
BEGIN:VEVENT
DTSTART;TZID=Europe/Zurich:20240922T163000
DTEND;TZID=Europe/Zurich:20240922T180000
DTSTAMP:20260420T120440
CREATED:20240405T084441Z
LAST-MODIFIED:20240405T090243Z
UID:1387-1727022600-1727028000@cometuba.com
SUMMARY:22.09.2024 at 16h30 : Solo recital at Église Notre-Dame-de-l'Assomption de Vouvant with Christine Métay-Segui (organ).
DESCRIPTION:Further informations : https://orgueetmusiqueavouvant.com/journees-du-patrimoine-vents-a-vouvant-2/ \n\nProgram : \n\n\n\n\n–Georg Philipp Telemann (Magdebourg 1681 – Hambourg 1767) Sonate en la mineur pour hautbois et basse continue / Révision de Louis Bleuzet \n\n–Franz Schubert (Lichtental 1797 – Vienne 1828) Ständchen (Sérénade)\, D 957 \n\n–Johann Sebastian Bach (Eisenach 1685 – Leipzig 1750) – Prélude et fugue en la mineur pour orgue\, BWV 543 – Première Suite pour violoncelle seul en sol Majeur\, BWV 1007 (extraits) « Prélude »\, « Allemande »\, « Sarabande »\, « Menuets I & II »\, – « Gigue » \n\n–Eric Lebrun (Talence 1967) Îles pour tuba et orgue Création mondiale\, commande d’Orgue & Musique à Vouvant –Gabriel Pierné (Metz 1863 – Ploujean 1937) Prélude pour orgue\, op. 29\, n° 1 –Isaac Albéniz (Camprondon 1860 – Cambo-les-Bains 1909) Capricho Catalan de España Arrangement de Walter Hilgers \n\n–Sergueï Rachmaninov (Semionovo 1873 – Beverly-Hills 1943) Vocalise\, op. 34 \n\n–Gabriel Fauré (Pamiers 1845 – Paris 1924) Après un rêve\, op. 7
URL:https://cometuba.com/event/22-09-2024-at-16h30-solo-recital-at-eglise-notre-dame-de-lassomption-de-vouvant-with-christine-metay-segui-organ/
LOCATION:Vouvant\, Place de l'Église\, Vouvant\, 85120\, France
END:VEVENT
BEGIN:VEVENT
DTSTART;TZID=Europe/Paris:20240419T200000
DTEND;TZID=Europe/Paris:20240419T213000
DTSTAMP:20260420T120440
CREATED:20240405T084018Z
LAST-MODIFIED:20240405T084018Z
UID:1335-1713556800-1713562200@cometuba.com
SUMMARY:19.04.2024 at 20h : Solo recital at the Cathedral of Saint-Jean-de-Maurienne (France) with Paisit Bon-Dansac (piano).
DESCRIPTION:Program : \n \n–Sonate Appassionata de Xavier-Charles Catta\, (1973*)\n\n –Variations in Olden Style de Thomas Stevens\, (1938-2018)\n–Lamento de Sofia Gubaïdoulina\, (1931*)\n–Sonate n°2 de Luigi Cherubini\, (1760-1842)\n–Nocturno op. 7 de Franz Strauss\, (1822-1905)\n–Der Genesene an die Hoffnung d’Hugo Wolf\, (1860-1903)\n–Sonate pour tuba et piano de Zoltan Gardonyi\, (1906-1986)
URL:https://cometuba.com/event/19-04-2024-at-20h-solo-recital-at-the-cathedral-of-saint-jean-de-maurienne-france-with-paisit-bon-dansac-piano/
LOCATION:Cathédrale Saint-Jean-Baptiste de Saint-Jean-de-Maurienne\, Place de la Cathédrale\, Saint-Jean-de-Maurienne\, 73300\, France
END:VEVENT
END:VCALENDAR